BEGIN:VCALENDAR
VERSION:2.0
PRODID:-//chikkutakku.com//RDFCal 1.0//EN
X-WR-CALDESC:GoogleカレンダーやiCalendar形式情報を共有シェ
 アしましょう。近所のイベントから全国のイベントま
 で今日のイベント検索やスケジュールを決めるならち
 っくたっく
X-WR-CALNAME:ちっくたっく
X-WR-TIMEZONE:UTC
BEGIN:VEVENT
SUMMARY:LIAR GAME -ライアーゲーム- #3 「決着」
DTSTART;VALUE=DATE-TIME:20260423T143000Z
DTEND;VALUE=DATE-TIME:20260423T150000Z
UID:164189187234
DESCRIPTION:3 / 決着 / 
LOCATION:AT-X
END:VEVENT
END:VCALENDAR
