BEGIN:VCALENDAR
VERSION:2.0
PRODID:-//chikkutakku.com//RDFCal 1.0//EN
X-WR-CALDESC:GoogleカレンダーやiCalendar形式情報を共有シェ
 アしましょう。近所のイベントから全国のイベントま
 で今日のイベント検索やスケジュールを決めるならち
 っくたっく
X-WR-CALNAME:ちっくたっく
X-WR-TIMEZONE:UTC
BEGIN:VEVENT
SUMMARY:バスケットボール（代々木）
DTSTART;VALUE=DATE-TIME:20260510T040000Z
DTEND;VALUE=DATE-TIME:20260510T080000Z
UID:164260869311
DESCRIPTION:\n①組　13:00　～　15:00\n\n②組　15:00　～　17:00
LOCATION:聖心女子学院
END:VEVENT
END:VCALENDAR
