BEGIN:VCALENDAR
VERSION:2.0
PRODID:-//chikkutakku.com//RDFCal 1.0//EN
X-WR-CALDESC:GoogleカレンダーやiCalendar形式情報を共有シェ
 アしましょう。近所のイベントから全国のイベントま
 で今日のイベント検索やスケジュールを決めるならち
 っくたっく
X-WR-CALNAME:ちっくたっく
X-WR-TIMEZONE:UTC
BEGIN:VEVENT
SUMMARY:●東野・岡村の旅猿２２～プライベートでごめん
 なさい～[再] 4/28(火)23:00-23:30 ＢＳ日テレ(Ch.141)
DTSTART;VALUE=DATE-TIME:20260428T140000Z
DTEND;VALUE=DATE-TIME:20260428T143000Z
UID:164503379299
DESCRIPTION:●東野・岡村の旅猿２２～プライベートでご
 めんなさい～[再]4/28(火)23:00-23:30 ＢＳ日テレ(Ch.141)「和
 歌山で岡村マグロ解体ショーへの旅 カツオ編」第2話　
 いよいよ釣り開始！しかしなかなか思うような展開に
 ならず…果たしてカツオを釣り上げることは出来るの
 か？https://www.bs4.jp/tabizaru22/
LOCATION:
END:VEVENT
END:VCALENDAR
