BEGIN:VCALENDAR
VERSION:2.0
PRODID:-//chikkutakku.com//RDFCal 1.0//EN
X-WR-CALDESC:GoogleカレンダーやiCalendar形式情報を共有シェ
 アしましょう。近所のイベントから全国のイベントま
 で今日のイベント検索やスケジュールを決めるならち
 っくたっく
X-WR-CALNAME:ちっくたっく
X-WR-TIMEZONE:UTC
BEGIN:VEVENT
SUMMARY:🎙️六本木コントライブNEXT！
DTSTART;VALUE=DATE-TIME:20260521T083000Z
DTEND;VALUE=DATE-TIME:20260521T094500Z
UID:164935358764
DESCRIPTION:・開場17:15/開演17:30\n・前売¥2\,000/当日¥2\,300
LOCATION:YOSHIMOTO ROPPONGI THEATER\, 日本、〒106-0032 東京都港区
 六本木４丁目９−２
END:VEVENT
END:VCALENDAR
