BEGIN:VCALENDAR
VERSION:2.0
PRODID:-//chikkutakku.com//RDFCal 1.0//EN
X-WR-CALDESC:GoogleカレンダーやiCalendar形式情報を共有シェ
 アしましょう。近所のイベントから全国のイベントま
 で今日のイベント検索やスケジュールを決めるならち
 っくたっく
X-WR-CALNAME:ちっくたっく
X-WR-TIMEZONE:UTC
BEGIN:VEVENT
SUMMARY:アンサンブルクラス
DTSTART;VALUE=DATE-TIME:20260509T010000Z
DTEND;VALUE=DATE-TIME:20260509T023000Z
UID:164938770332
DESCRIPTION:アンサンブルクラス
LOCATION:
END:VEVENT
END:VCALENDAR
