BEGIN:VCALENDAR
VERSION:2.0
PRODID:-//chikkutakku.com//RDFCal 1.0//EN
X-WR-CALDESC:GoogleカレンダーやiCalendar形式情報を共有シェ
 アしましょう。近所のイベントから全国のイベントま
 で今日のイベント検索やスケジュールを決めるならち
 っくたっく
X-WR-CALNAME:ちっくたっく
X-WR-TIMEZONE:UTC
BEGIN:VEVENT
SUMMARY:Friday of the Fourth Week after the Resurrection
DTSTART;VALUE=DATE:20260430
DTEND;VALUE=DATE:20260501
UID:164990439035
DESCRIPTION:Holy Apostles St. Peter and St. Paul\n\nCommemorated annually 
 on the Friday of the fourth week after Easter.\n\nBL14504
LOCATION:
END:VEVENT
END:VCALENDAR
