BEGIN:VCALENDAR
VERSION:2.0
PRODID:-//chikkutakku.com//RDFCal 1.0//EN
X-WR-CALDESC:GoogleカレンダーやiCalendar形式情報を共有シェ
 アしましょう。近所のイベントから全国のイベントま
 で今日のイベント検索やスケジュールを決めるならち
 っくたっく
X-WR-CALNAME:ちっくたっく
X-WR-TIMEZONE:UTC
BEGIN:VEVENT
SUMMARY:【Android 対応】VRCアークナイツ集会【第25回】
DTSTART;VALUE=DATE-TIME:20260424T120000Z
DTEND;VALUE=DATE-TIME:20260424T140000Z
UID:165056061197
DESCRIPTION:【イベント主催者】\n　Yukaze\n【イベント内容
 】\n　アークナイツの話をしたり、改変を見せ合ったり
 、とにかく楽しみます。\n【イベントジャンル】\n　そ
 の他交流会\n【参加条件（モデル、人数制限など）】\n
 　アークナイツが好きであること！無改変OK！\nMobile OK
 インスタンスにPCユーザーが参加する際は、できればア
 バターの配慮等をお願いします！\n【参加方法】\n　Grou
 p（DOCTOR.8712）インスタンスにjoin！\nhttps://vrchat.com/home/gr
 oup/grp_7f1e6d31-a66e-4f92-9149-10da0b709872 \n【備考】\n　
LOCATION:
END:VEVENT
END:VCALENDAR
