BEGIN:VCALENDAR
VERSION:2.0
PRODID:-//chikkutakku.com//RDFCal 1.0//EN
X-WR-CALDESC:GoogleカレンダーやiCalendar形式情報を共有シェ
 アしましょう。近所のイベントから全国のイベントま
 で今日のイベント検索やスケジュールを決めるならち
 っくたっく
X-WR-CALNAME:ちっくたっく
X-WR-TIMEZONE:UTC
BEGIN:VEVENT
SUMMARY:【Android 対応】TRPG喫茶しゅれでぃんが～
DTSTART;VALUE=DATE-TIME:20260424T130000Z
DTEND;VALUE=DATE-TIME:20260424T140000Z
UID:165815576424
DESCRIPTION:【イベント主催者】\n　ヘガちゃん\n【イベン
 ト内容】\n　TRPGマッチング交流イベントです！\n自由に
 交流をして、TRPGのセッション相手を探すイベントです
 ！\n「TRPG初心者」や「教えてください」等の目的別の
 タグマーカーも設置してあるのでご活用ください！\nこ
 んな人におすすめ！\n・TRPGに興味はあるけどやり方が
 わからない！\n・やりたいけど相手がいない！\n\n【イ
 ベントジャンル】\n　その他交流会\, 初心者向けイベン
 ト\, 定期イベント\n【参加条件（モデル、人数制限など
 ）】\n　32人インスタンス\n≺イベント中の注意事項≻\n
 ・イベント内での配信、録画、録音の禁止（写真撮影
 は可）\n・NSFW、過度なパーティクル、荒らし行為の禁
 止\n・他のお客様の迷惑となる行為の禁止\n・雰囲気に
 そぐわない方はご退場していただく場合がございます\n
 \n【参加方法】\n　1.https://t.co/q5mkaUKpBo に参加\n2.時間に
 なったらグループインスタンス「TRPG喫茶しゅれでぃん
 が～」に入室\n\n【備考】\n　
LOCATION:
END:VEVENT
END:VCALENDAR
