BEGIN:VCALENDAR
VERSION:2.0
PRODID:-//chikkutakku.com//RDFCal 1.0//EN
X-WR-CALDESC:GoogleカレンダーやiCalendar形式情報を共有シェ
 アしましょう。近所のイベントから全国のイベントま
 で今日のイベント検索やスケジュールを決めるならち
 っくたっく
X-WR-CALNAME:ちっくたっく
X-WR-TIMEZONE:UTC
BEGIN:VEVENT
SUMMARY:09:30花東區同濟好聲音歌唱比賽
DTSTART;VALUE=DATE:20260424
DTEND;VALUE=DATE:20260425
UID:165912992147
DESCRIPTION:09:30花東區同濟好聲音歌唱比賽
LOCATION:娜路彎大酒店-2樓卑南廳(台東市連航路66號)
END:VEVENT
END:VCALENDAR
