BEGIN:VCALENDAR
VERSION:2.0
PRODID:-//chikkutakku.com//RDFCal 1.0//EN
X-WR-CALDESC:GoogleカレンダーやiCalendar形式情報を共有シェ
 アしましょう。近所のイベントから全国のイベントま
 で今日のイベント検索やスケジュールを決めるならち
 っくたっく
X-WR-CALNAME:ちっくたっく
X-WR-TIMEZONE:UTC
BEGIN:VEVENT
SUMMARY:えくれあ教会 お茶会
DTSTART;VALUE=DATE-TIME:20260422T130000Z
DTEND;VALUE=DATE-TIME:20260422T145900Z
UID:166065037202
DESCRIPTION:【イベント主催者】\n　EClare_えくれあ\n【イベ
 ント内容】\n　「お茶会という形でのんびりおはなしま
 しょう」\nといった感じの雑談イベントです。\n\n基本
 なんでも雑談ですが、よく出る話題としては\n「TCG(種
 類特に問わず)」「アニメ・特撮」「ロボ」「ゲーム」
 「料理」「アバター改変・作成」\nあたりの話をするこ
 とが多いかなと思います。\n日によっていろいろですが
 参考までに\n【イベントジャンル】\n　その他交流会\, 
 定期イベント\n【参加条件（モデル、人数制限など）】
 \n　とくになし\n【参加方法】\n　VRCグループ「えくれ
 あ教会（888.5531）」に参加し、\nグループ＋の開催イン
 スタンスへ参加\nまたは、現地にいるフレンドへ参加\n
 【備考】\n　入口にタグマーカーが置いてあるので自分
 にあったものを設定してご活用ください。\n\n イベント
 説明詳細記事\nhttps://eclare.hateblo.jp/entry/2022/02/04/203217
LOCATION:
END:VEVENT
END:VCALENDAR
