BEGIN:VCALENDAR
VERSION:2.0
PRODID:-//chikkutakku.com//RDFCal 1.0//EN
X-WR-CALDESC:GoogleカレンダーやiCalendar形式情報を共有シェ
 アしましょう。近所のイベントから全国のイベントま
 で今日のイベント検索やスケジュールを決めるならち
 っくたっく
X-WR-CALNAME:ちっくたっく
X-WR-TIMEZONE:UTC
BEGIN:VEVENT
SUMMARY:【東京】Negicco＠月刊PAM Presents.「ANSWER」VOL.10
DTSTART;VALUE=DATE-TIME:20260520T103000Z
DTEND;VALUE=DATE-TIME:20260520T120000Z
UID:166297456223
DESCRIPTION:5月20日（水）OPEN 19:00／START  19:30 @ 新宿MARZ月
 刊PAM Presents.「ANSWER」VOL.10出演月刊PAM / Negiccoチケットは
 本日22:00発売！https://t-dv.com/answer10優先入場チケット：35
 00（1D別）一般チケット：3000（1D別）
LOCATION:新宿MARZ\, 日本、〒160-0021 東京都新宿区歌舞伎町
 ２丁目４５−１ 第一 トキワビル B1
END:VEVENT
END:VCALENDAR
