BEGIN:VCALENDAR
VERSION:2.0
PRODID:-//chikkutakku.com//RDFCal 1.0//EN
X-WR-CALDESC:GoogleカレンダーやiCalendar形式情報を共有シェ
 アしましょう。近所のイベントから全国のイベントま
 で今日のイベント検索やスケジュールを決めるならち
 っくたっく
X-WR-CALNAME:ちっくたっく
X-WR-TIMEZONE:UTC
BEGIN:VEVENT
SUMMARY:A川口 中級クラス12 北畑（ヴェニーズワルツ⑤+α
 、サンバ⑤+α）
DTSTART;VALUE=DATE-TIME:20260507T103000Z
DTEND;VALUE=DATE-TIME:20260507T120000Z
UID:166772996476
DESCRIPTION:ステップ名＆動画\nヴェニーズワルツ⑤+α：htt
 ps://dancecirclej.com/index.php?go=wUsAFb\nサンバ⑤+α：https://dance
 circlej.com/index.php?go=XJbpfn
LOCATION:タキガワダンススクール川口
END:VEVENT
END:VCALENDAR
