BEGIN:VCALENDAR
VERSION:2.0
PRODID:-//chikkutakku.com//RDFCal 1.0//EN
X-WR-CALDESC:GoogleカレンダーやiCalendar形式情報を共有シェ
 アしましょう。近所のイベントから全国のイベントま
 で今日のイベント検索やスケジュールを決めるならち
 っくたっく
X-WR-CALNAME:ちっくたっく
X-WR-TIMEZONE:UTC
BEGIN:VEVENT
SUMMARY:PFTP Range 6
DTSTART;VALUE=DATE-TIME:20260508T223000Z
DTEND;VALUE=DATE-TIME:20260509T060000Z
UID:166989772476
DESCRIPTION:PFTP Range 6
LOCATION:
END:VEVENT
END:VCALENDAR
