BEGIN:VCALENDAR
VERSION:2.0
PRODID:-//chikkutakku.com//RDFCal 1.0//EN
X-WR-CALDESC:GoogleカレンダーやiCalendar形式情報を共有シェ
 アしましょう。近所のイベントから全国のイベントま
 で今日のイベント検索やスケジュールを決めるならち
 っくたっく
X-WR-CALNAME:ちっくたっく
X-WR-TIMEZONE:UTC
BEGIN:VEVENT
SUMMARY:増訂縮刷版 写真集 日本軍服大図鑑 明治篇
DTSTART;VALUE=DATE:20260518
DTEND;VALUE=DATE:20260519
UID:167160038011
DESCRIPTION:2026-05-19増訂縮刷版 写真集 日本軍服大図鑑 明
 治篇平山晋国書刊行会
LOCATION:
END:VEVENT
END:VCALENDAR
