BEGIN:VCALENDAR
VERSION:2.0
PRODID:-//chikkutakku.com//RDFCal 1.0//EN
X-WR-CALDESC:GoogleカレンダーやiCalendar形式情報を共有シェ
 アしましょう。近所のイベントから全国のイベントま
 で今日のイベント検索やスケジュールを決めるならち
 っくたっく
X-WR-CALNAME:ちっくたっく
X-WR-TIMEZONE:UTC
BEGIN:VEVENT
SUMMARY:下北沢サーキット
DTSTART;VALUE=DATE:20260502
DTEND;VALUE=DATE:20260503
UID:167184818938
DESCRIPTION:5/3(日) at 下北沢3会場\n「Memento Circuit」supported b
 y 脱却\n\nOPEN11:00 / START11:30\n前売¥3\,500 / 当日¥4\,500\n\n
 🎫4/23(木)22:00〜販売開始\nt-dv.com/Memento0503
LOCATION:
END:VEVENT
END:VCALENDAR
