BEGIN:VCALENDAR
VERSION:2.0
PRODID:-//chikkutakku.com//RDFCal 1.0//EN
X-WR-CALDESC:GoogleカレンダーやiCalendar形式情報を共有シェ
 アしましょう。近所のイベントから全国のイベントま
 で今日のイベント検索やスケジュールを決めるならち
 っくたっく
X-WR-CALNAME:ちっくたっく
X-WR-TIMEZONE:UTC
BEGIN:VEVENT
SUMMARY:つながり集会
DTSTART;VALUE=DATE-TIME:20260423T140000Z
DTEND;VALUE=DATE-TIME:20260423T145900Z
UID:167379071203
DESCRIPTION:【イベント主催者】\n　かなぎ\n【イベント内
 容】\n　つながり集会は「はじめましての人」と楽しく
 お話するための集会です。初心者さんも、ベテランさ
 んも、どなたでも大歓迎ですっ！\n一日の終りに、新し
 いつながりを一緒に作ってみませんか？\n開催時間内い
 つでもご参加いただけますっ！途中からの参加も大歓
 迎ですっ！！\n【イベントジャンル】\n　その他交流会\
 , 初心者向けイベント\, 定期イベント\n【参加条件（モ
 デル、人数制限など）】\n　ありません！\n【参加方法
 】\n　つながり集会のグループ（https://vrc.group/SHUKAI.5731
 ）に参加してください。\n【備考】\n　開催時間の間、
 出入り自由となっています。開催時間中、途中からの
 ご参加も問題ありません！\n\nイベント開始時間より５
 〜１０分程度は待機時間となります。壁に掲示されて
 いる説明などを確認していただけるとありがたいです
 。\n待機時間後に「はじまりのご説明」を行います。ご
 説明終了後にお話タイム開始となります。\n\n雑談／お
 話に自信が無い方は「かなぎ」の近くにいらしていた
 だけるとありがたいです。一緒にお話しましょう。\n\nh
 ttps://x.com/vr_shukai/status/1899009922966397158
LOCATION:
END:VEVENT
END:VCALENDAR
