BEGIN:VCALENDAR
VERSION:2.0
PRODID:-//chikkutakku.com//RDFCal 1.0//EN
X-WR-CALDESC:GoogleカレンダーやiCalendar形式情報を共有シェ
 アしましょう。近所のイベントから全国のイベントま
 で今日のイベント検索やスケジュールを決めるならち
 っくたっく
X-WR-CALNAME:ちっくたっく
X-WR-TIMEZONE:UTC
BEGIN:VEVENT
SUMMARY:Arlington Calvary Church: Earth's Greatest Enemy (+ discussion) (+
  refreshments)
DTSTART;VALUE=DATE-TIME:20260424T230000Z
DTEND;VALUE=DATE-TIME:20260425T010000Z
UID:167551765292
DESCRIPTION:Fellowship Hall entrance: side doors on Linwood St up a set of
  exterior steps to red doors\n\n通过 Google Meet 加入：https://meet.g
 oogle.com/rds-bgof-zpv\n\n如需详细了解 Google Meet，请访问：htt
 ps://support.google.com/a/users/answer/9282720
LOCATION:Calvary United Methodist Church\, 300 Massachusetts Ave\, Arlingt
 on\, MA 02474\, USA
END:VEVENT
END:VCALENDAR
