BEGIN:VCALENDAR
VERSION:2.0
PRODID:-//chikkutakku.com//RDFCal 1.0//EN
X-WR-CALDESC:GoogleカレンダーやiCalendar形式情報を共有シェ
 アしましょう。近所のイベントから全国のイベントま
 で今日のイベント検索やスケジュールを決めるならち
 っくたっく
X-WR-CALNAME:ちっくたっく
X-WR-TIMEZONE:UTC
BEGIN:VEVENT
SUMMARY:瑞希メイド喫茶～神薙～
DTSTART;VALUE=DATE-TIME:20260521T100000Z
DTEND;VALUE=DATE-TIME:20260521T120000Z
UID:167663369779
DESCRIPTION:【イベント主催者】\n　水晶【Suisyou】\n【イベ
 ント内容】\n　瑞希ちゃんが皆様ご主人様をおもてなし
 し、接客も会話も出来ると言うイベントです。このイ
 ベントは主催にフレ申を送ら無い限り入れ無いので、
 主催の水晶【Suisyou】にフレ申して下さい。\n【イベン
 トジャンル】\n　改変アバター交流会\, VR飲み会\, ロー
 ルプレイ\, 初心者向けイベント\n【参加条件（モデル、
 人数制限など）】\n　瑞希・ルルネ・リリカ\n【参加方
 法】\n　https://vrchat.com/home/user/usr_51d12000-8942-4852-9efd-e6c284
 26b3f2\n【備考】\n　
LOCATION:
END:VEVENT
END:VCALENDAR
