BEGIN:VCALENDAR
VERSION:2.0
PRODID:-//chikkutakku.com//RDFCal 1.0//EN
X-WR-CALDESC:GoogleカレンダーやiCalendar形式情報を共有シェ
 アしましょう。近所のイベントから全国のイベントま
 で今日のイベント検索やスケジュールを決めるならち
 っくたっく
X-WR-CALNAME:ちっくたっく
X-WR-TIMEZONE:UTC
BEGIN:VEVENT
SUMMARY:資訊素養講座-網路行為與隱私保護(林園高中)
DTSTART;VALUE=DATE-TIME:20260513T060000Z
DTEND;VALUE=DATE-TIME:20260513T070000Z
UID:168271450558
DESCRIPTION:資訊素養講座-網路行為與隱私保護(林園高中)
LOCATION:
END:VEVENT
END:VCALENDAR
