BEGIN:VCALENDAR
VERSION:2.0
PRODID:-//chikkutakku.com//RDFCal 1.0//EN
X-WR-CALDESC:GoogleカレンダーやiCalendar形式情報を共有シェ
 アしましょう。近所のイベントから全国のイベントま
 で今日のイベント検索やスケジュールを決めるならち
 っくたっく
X-WR-CALNAME:ちっくたっく
X-WR-TIMEZONE:UTC
BEGIN:VEVENT
SUMMARY:【注】DEATH NOTE #29 父親 / #30 正義 / #31 移譲 / #32 選
 択 / #33 嘲笑 / #34 虎視 / #35 殺意 / #36 1.28 / #37 新世界
DTSTART;VALUE=DATE-TIME:20260423T040000Z
DTEND;VALUE=DATE-TIME:20260423T083000Z
UID:168658689623
DESCRIPTION: / #29 父親 / #30 正義 / #31 移譲 / #32 選択 / #33 嘲
 笑 / #34 虎視 / #35 殺意 / #36 1.28 / #37 新世界 / https://abema.t
 v/channels/00s-anime-1/slots/EvABRTpz6yeiAB リピート放送は 22:00～
  https://abema.tv/channels/00s-anime-1/slots/AkN7aLiGvfhW55 (無料TS1週
 間) https://prtimes.jp/main/html/rd/p/000002968.000064643.html
LOCATION:なつかしアニメ00's
END:VEVENT
END:VCALENDAR
