BEGIN:VCALENDAR
VERSION:2.0
PRODID:-//chikkutakku.com//RDFCal 1.0//EN
X-WR-CALDESC:GoogleカレンダーやiCalendar形式情報を共有シェ
 アしましょう。近所のイベントから全国のイベントま
 で今日のイベント検索やスケジュールを決めるならち
 っくたっく
X-WR-CALNAME:ちっくたっく
X-WR-TIMEZONE:UTC
BEGIN:VEVENT
SUMMARY:Varsity Softball: Payson vs Gilbert Christian
DTSTART;VALUE=DATE-TIME:20260425T000000Z
DTEND;VALUE=DATE-TIME:20260425T020000Z
UID:169209002849
DESCRIPTION:Varsity Softball: Payson vs Gilbert Christian
LOCATION:Titan Solar Park at Gilbert Christian Greenfield Campus
END:VEVENT
END:VCALENDAR
