BEGIN:VCALENDAR
VERSION:2.0
PRODID:-//chikkutakku.com//RDFCal 1.0//EN
X-WR-CALDESC:GoogleカレンダーやiCalendar形式情報を共有シェ
 アしましょう。近所のイベントから全国のイベントま
 で今日のイベント検索やスケジュールを決めるならち
 っくたっく
X-WR-CALNAME:ちっくたっく
X-WR-TIMEZONE:UTC
BEGIN:VEVENT
SUMMARY:Sts. Lawrence and Agrippa
DTSTART;VALUE=DATE-TIME:20260518T183000Z
DTEND;VALUE=DATE-TIME:20260519T183000Z
UID:169307062230
DESCRIPTION:Loranṭyos (Laurence) and Agrippa were companions and martyrs
  under Diocletian. Agrippa was a prefect of Syria who had converted to the
  faith in Mesopotamia. Martyred together with twelve thousand.\n\nParis 14
 6 and Vat. LXIX
LOCATION:
END:VEVENT
END:VCALENDAR
