BEGIN:VCALENDAR
VERSION:2.0
PRODID:-//chikkutakku.com//RDFCal 1.0//EN
X-WR-CALDESC:GoogleカレンダーやiCalendar形式情報を共有シェ
 アしましょう。近所のイベントから全国のイベントま
 で今日のイベント検索やスケジュールを決めるならち
 っくたっく
X-WR-CALNAME:ちっくたっく
X-WR-TIMEZONE:UTC
BEGIN:VEVENT
SUMMARY:【アソビBAR】ねむのはな【🔰初心者さん＆お友
 達同士でも歓迎🙆】
DTSTART;VALUE=DATE-TIME:20260425T130000Z
DTEND;VALUE=DATE-TIME:20260425T140000Z
UID:169612600837
DESCRIPTION:【イベント主催者】\n　さいれんちゃん\n【イ
 ベント内容】\n　１階にダーツ・麻雀・ビリヤードがあ
 り、２階にBARがある少し広めのワールドでキャストや
 遊びに来ているお客様と一緒に遊びませんか？🎯遊ん
 でもよし、２階でオリカクを吞みながらChillしてもよし
 の自由度が高いイベントです🍹💫VRCでゲームしたこと
 ない、イベント自体初めて！って方でもキャストがし
 っかり遊び方を教えてくれるので安心してきてね🙆勿
 論お友達同士でもどうぞ！ワールドはお花と猫をモチ
 ーフにしていて柔らかい雰囲気です。皆様のご来店お
 待ちしております🐈🐾\n【イベントジャンル】\n　定
 期イベント\n【参加条件（モデル、人数制限など）】\n
 　32人インスタンス/アバター40MB以下をお願いしていま
 す。\n【参加方法】\n　当イベントはねむのはなのグル
 ープ＋で開きます🌷\nグループＩＤ【NEM.5313】\nURL【　h
 ttps://vrchat.com/home/group/grp_38c34780-2431-4991-a5b1-f074f0e1634d　
 】\n【備考】\n　
LOCATION:
END:VEVENT
END:VCALENDAR
