BEGIN:VCALENDAR
VERSION:2.0
PRODID:-//chikkutakku.com//RDFCal 1.0//EN
X-WR-CALDESC:GoogleカレンダーやiCalendar形式情報を共有シェ
 アしましょう。近所のイベントから全国のイベントま
 で今日のイベント検索やスケジュールを決めるならち
 っくたっく
X-WR-CALNAME:ちっくたっく
X-WR-TIMEZONE:UTC
BEGIN:VEVENT
SUMMARY:【天使系ホストイベント】Club Luv of Eden
DTSTART;VALUE=DATE-TIME:20260424T130500Z
DTEND;VALUE=DATE-TIME:20260424T150000Z
UID:170415011833
DESCRIPTION:【イベント主催者】\n　VR田中ちゃん\n【イベ
 ント内容】\n　天使をテーマにしたホストクラブ接客イ
 ベントです。\n1st aniv.営業となります。\n【イベントジ
 ャンル】\n　ロールプレイ\n【参加条件（モデル、人数
 制限など）】\n　VCでの日本語コミュニケーションが可
 能な方\n【参加方法】\n　各インスタンスリーダーへ22:0
 5~22:09にリクイン、当選すると参加いただけます。\n事
 前抽選キャンペーンも営業日前に実施いたします。\n【
 備考】\n　詳細はX(@VRCluvofeden)をご確認ください。
LOCATION:
END:VEVENT
END:VCALENDAR
