BEGIN:VCALENDAR
VERSION:2.0
PRODID:-//chikkutakku.com//RDFCal 1.0//EN
X-WR-CALDESC:GoogleカレンダーやiCalendar形式情報を共有シェ
 アしましょう。近所のイベントから全国のイベントま
 で今日のイベント検索やスケジュールを決めるならち
 っくたっく
X-WR-CALNAME:ちっくたっく
X-WR-TIMEZONE:UTC
BEGIN:VEVENT
SUMMARY:NVP Wednesday Morning Ride
DTSTART;VALUE=DATE-TIME:20260422T140000Z
DTEND;VALUE=DATE-TIME:20260422T160000Z
UID:170473955372
DESCRIPTION:Over the Bridge! Take advantage of the MCRT to head west with
  fewer cars and bumps. Then head up to Acton to pick up the BFRT for the r
 ide back home. Remember to bring your good manners and communication skill
 s to the ride\, especially on the bike paths.Route: https://ridewithgps.c
 om/routes/54728412Distance: 29 milesRide leader will average 14-15 mph. Ri
 ders wanting a different pace are more than welcome to join. Please bring 
 a friend so nobody rides alone.Leader will post any changes or cancellatio
 n due to weather by 8:00am on day of the ride.Ride Leader: Judy Clawson\, 
 jhclawson@gmail.com
LOCATION:Haskell Field & Playground\, 40 Fairbank Rd\, Sudbury\, MA 01776\
 , USA
END:VEVENT
END:VCALENDAR
