BEGIN:VCALENDAR
VERSION:2.0
PRODID:-//chikkutakku.com//RDFCal 1.0//EN
X-WR-CALDESC:GoogleカレンダーやiCalendar形式情報を共有シェ
 アしましょう。近所のイベントから全国のイベントま
 で今日のイベント検索やスケジュールを決めるならち
 っくたっく
X-WR-CALNAME:ちっくたっく
X-WR-TIMEZONE:UTC
BEGIN:VEVENT
SUMMARY:地方自治体のマネジメント入門
DTSTART;VALUE=DATE:20260422
DTEND;VALUE=DATE:20260423
UID:170708073338
DESCRIPTION:2026-04-23地方自治体のマネジメント入門石川 恵
 子/佐藤 亨中央経済社
LOCATION:
END:VEVENT
END:VCALENDAR
