BEGIN:VCALENDAR
VERSION:2.0
PRODID:-//chikkutakku.com//RDFCal 1.0//EN
X-WR-CALDESC:GoogleカレンダーやiCalendar形式情報を共有シェ
 アしましょう。近所のイベントから全国のイベントま
 で今日のイベント検索やスケジュールを決めるならち
 っくたっく
X-WR-CALNAME:ちっくたっく
X-WR-TIMEZONE:UTC
BEGIN:VEVENT
SUMMARY:「顔も見たくない」と振られたのに、御曹司の十
 年越しの執着激愛で娶り堕とされました
DTSTART;VALUE=DATE:20260508
DTEND;VALUE=DATE:20260509
UID:170921034669
DESCRIPTION:2026-05-09「顔も見たくない」と振られたのに、
 御曹司の十年越しの執着激愛で娶り堕とされました森
 野りも/篁ふみスターツ出版
LOCATION:
END:VEVENT
END:VCALENDAR
