BEGIN:VCALENDAR
VERSION:2.0
PRODID:-//chikkutakku.com//RDFCal 1.0//EN
X-WR-CALDESC:GoogleカレンダーやiCalendar形式情報を共有シェ
 アしましょう。近所のイベントから全国のイベントま
 で今日のイベント検索やスケジュールを決めるならち
 っくたっく
X-WR-CALNAME:ちっくたっく
X-WR-TIMEZONE:UTC
BEGIN:VEVENT
SUMMARY:ヒトと栄養の基礎を学ぶ やさしい生物学
DTSTART;VALUE=DATE:20260430
DTEND;VALUE=DATE:20260501
UID:171415785038
DESCRIPTION:2026-05-01ヒトと栄養の基礎を学ぶ やさしい生物
 学古庄 律/曽根 英行建帛社
LOCATION:
END:VEVENT
END:VCALENDAR
