BEGIN:VCALENDAR
VERSION:2.0
PRODID:-//chikkutakku.com//RDFCal 1.0//EN
X-WR-CALDESC:GoogleカレンダーやiCalendar形式情報を共有シェ
 アしましょう。近所のイベントから全国のイベントま
 で今日のイベント検索やスケジュールを決めるならち
 っくたっく
X-WR-CALNAME:ちっくたっく
X-WR-TIMEZONE:UTC
BEGIN:VEVENT
SUMMARY:微分積分 〜なぜ必要，どう使う〜
DTSTART;VALUE=DATE:20260520
DTEND;VALUE=DATE:20260521
UID:171436769759
DESCRIPTION:2026-05-21微分積分 〜なぜ必要，どう使う〜小川
  束/上野 健爾技術評論社
LOCATION:
END:VEVENT
END:VCALENDAR
