BEGIN:VCALENDAR
VERSION:2.0
PRODID:-//chikkutakku.com//RDFCal 1.0//EN
X-WR-CALDESC:GoogleカレンダーやiCalendar形式情報を共有シェ
 アしましょう。近所のイベントから全国のイベントま
 で今日のイベント検索やスケジュールを決めるならち
 っくたっく
X-WR-CALNAME:ちっくたっく
X-WR-TIMEZONE:UTC
BEGIN:VEVENT
SUMMARY:★せやねん！ 4/25(土)11:58-12:54 ＭＢＳ毎日放送(近
 畿広域圏 Ch.4)
DTSTART;VALUE=DATE-TIME:20260425T025800Z
DTEND;VALUE=DATE-TIME:20260425T035400Z
UID:171727787090
DESCRIPTION:★せやねん！4/25(土)11:58-12:54 ＭＢＳ毎日放送(
 近畿広域圏 Ch.4)■ジョックロックの「どこまで遠くへ
 行ける？ご縁旅」今回のミッションは１２時間以内に
 和歌山県・白浜町で伊勢海老を購入し、梅田に戻って
 くること！無事成功なるか！？https://www.mbs.jp/seyanen/
LOCATION:
END:VEVENT
END:VCALENDAR
