BEGIN:VCALENDAR
VERSION:2.0
PRODID:-//chikkutakku.com//RDFCal 1.0//EN
X-WR-CALDESC:GoogleカレンダーやiCalendar形式情報を共有シェ
 アしましょう。近所のイベントから全国のイベントま
 で今日のイベント検索やスケジュールを決めるならち
 っくたっく
X-WR-CALNAME:ちっくたっく
X-WR-TIMEZONE:UTC
BEGIN:VEVENT
SUMMARY:115學年度台北市教師甄選工作會議
DTSTART;VALUE=DATE-TIME:20260421T050000Z
DTEND;VALUE=DATE-TIME:20260421T090000Z
UID:172299955770
DESCRIPTION:115學年度台北市教師甄選工作會議
LOCATION:
END:VEVENT
END:VCALENDAR
