BEGIN:VCALENDAR
VERSION:2.0
PRODID:-//chikkutakku.com//RDFCal 1.0//EN
X-WR-CALDESC:GoogleカレンダーやiCalendar形式情報を共有シェ
 アしましょう。近所のイベントから全国のイベントま
 で今日のイベント検索やスケジュールを決めるならち
 っくたっく
X-WR-CALNAME:ちっくたっく
X-WR-TIMEZONE:UTC
BEGIN:VEVENT
SUMMARY:地味なおじさん、実は英雄でした。 5 (下) 〜自覚
 がないまま無双してたら、姪のダンジョン配信で晒さ
 れてたようです〜
DTSTART;VALUE=DATE:20260423
DTEND;VALUE=DATE:20260424
UID:172302979677
DESCRIPTION:2026-04-24地味なおじさん、実は英雄でした。 5 (
 下) 〜自覚がないまま無双してたら、姪のダンジョン配
 信で晒されてたようです〜三河 ごーすと/瑞色 来夏集
 英社
LOCATION:
END:VEVENT
END:VCALENDAR
