BEGIN:VCALENDAR
VERSION:2.0
PRODID:-//chikkutakku.com//RDFCal 1.0//EN
X-WR-CALDESC:GoogleカレンダーやiCalendar形式情報を共有シェ
 アしましょう。近所のイベントから全国のイベントま
 で今日のイベント検索やスケジュールを決めるならち
 っくたっく
X-WR-CALNAME:ちっくたっく
X-WR-TIMEZONE:UTC
BEGIN:VEVENT
SUMMARY:【注】外れスキル《木の実マスター》 #1 唯一の
 素材 / #2 未完の輝き / #3 死霊の妖城 / #4 禁忌の能力(ス
 キル) / #5 波乱の舌戦 / #6 伝説の鍛冶師 / #7 雷鳴の獣 / #
 8 不屈の灯火 / #9 湖畔の再会 / #10 狂騒の波紋 / #11 妖精
 の祝福 / #12 宵の明星
DTSTART;VALUE=DATE-TIME:20260421T110000Z
DTEND;VALUE=DATE-TIME:20260421T170000Z
UID:172738722333
DESCRIPTION: / #1 唯一の素材 / #2 未完の輝き / #3 死霊の妖
 城 / #4 禁忌の能力(スキル) / #5 波乱の舌戦 / #6 伝説の鍛
 冶師 / #7 雷鳴の獣 / #8 不屈の灯火 / #9 湖畔の再会 / #10 
 狂騒の波紋 / #11 妖精の祝福 / #12 宵の明星 / https://abema.t
 v/channels/isekai-anime/slots/AkN7X1kuWxpaE3 リピート放送は 4/22(
 水) 8:00～ https://abema.tv/channels/isekai-anime/slots/AkN7aMLADPyjWf (
 無料TS1週間)
LOCATION:異世界ファンタジー
END:VEVENT
END:VCALENDAR
