BEGIN:VCALENDAR
VERSION:2.0
PRODID:-//chikkutakku.com//RDFCal 1.0//EN
X-WR-CALDESC:GoogleカレンダーやiCalendar形式情報を共有シェ
 アしましょう。近所のイベントから全国のイベントま
 で今日のイベント検索やスケジュールを決めるならち
 っくたっく
X-WR-CALNAME:ちっくたっく
X-WR-TIMEZONE:UTC
BEGIN:VEVENT
SUMMARY:会計学・簿記入門 第18版
DTSTART;VALUE=DATE:20260423
DTEND;VALUE=DATE:20260424
UID:172744422516
DESCRIPTION:2026-04-24会計学・簿記入門 第18版新田 忠誓/佐
 々木 隆志/石原 裕也/溝上 達也/神納 樹史/西山 一弘白
 桃書房
LOCATION:
END:VEVENT
END:VCALENDAR
