BEGIN:VCALENDAR
VERSION:2.0
PRODID:-//chikkutakku.com//RDFCal 1.0//EN
X-WR-CALDESC:GoogleカレンダーやiCalendar形式情報を共有シェ
 アしましょう。近所のイベントから全国のイベントま
 で今日のイベント検索やスケジュールを決めるならち
 っくたっく
X-WR-CALNAME:ちっくたっく
X-WR-TIMEZONE:UTC
BEGIN:VEVENT
SUMMARY:エミスティアちゃんに囲み囲まれ会
DTSTART;VALUE=DATE-TIME:20260510T130000Z
DTEND;VALUE=DATE-TIME:20260510T140000Z
UID:173185419537
DESCRIPTION:【イベント主催者】\n　たに（tani_ka）\n【イベ
 ント内容】\n　SKYMY Workshopさんのアバター「エミスティ
 アちゃん」を使用するアバターイベントです。\n前半は
 円陣になって囲み囲まれ、後半はユーザ同士の交流、22
 :50には参加者全員で記念撮影を予定してます。 \nハッ
 シュタグ：#エミ囲\,#skavatars\n【イベントジャンル】\n　
 アバター試着会\, 改変アバター交流会\n【参加条件（モ
 デル、人数制限など）】\n　アバター：SKYMY Workshop EMISTI
 A -エミスティア- を使用。\n改変OK/サンプルOKです。\n※
 サンプルアバターはイベント会場にも用意しています
 。\nPlease wear avatar "EMISTIA" or her sample avatar during the event.\n
 【参加方法】\n　グループ「SKYMY Workshop」(SKYMY.7900)のイ
 ンスタンスにJoin（Group+で開催します。「たに(tani_ka)」
 にJoinも可。）\n【備考】\n　■グループ「SKYMY Workshop」(
 SKYMY.7900):\nhttps://vrc.group/SKYMY.7900\n■使用アバター：EMISTI
 A -エミスティア- （SKYMY Workshop）\nhttps://skymy.booth.pm/items/
 2992265
LOCATION:
END:VEVENT
END:VCALENDAR
