BEGIN:VCALENDAR
VERSION:2.0
PRODID:-//chikkutakku.com//RDFCal 1.0//EN
X-WR-CALDESC:GoogleカレンダーやiCalendar形式情報を共有シェ
 アしましょう。近所のイベントから全国のイベントま
 で今日のイベント検索やスケジュールを決めるならち
 っくたっく
X-WR-CALNAME:ちっくたっく
X-WR-TIMEZONE:UTC
BEGIN:VEVENT
SUMMARY:VRマダミス『アガスティア・レコード』
DTSTART;VALUE=DATE-TIME:20260422T113000Z
DTEND;VALUE=DATE-TIME:20260422T145900Z
UID:173258414305
DESCRIPTION:【イベント主催者】\n　イマーシブクラウド\n
 【イベント内容】\n　VRマーダーミステリー『令和探偵
 奇譚 アガスティア・レコード』を一緒に遊びましょう
 ！\n【イベントジャンル】\n　その他交流会\, ロールプ
 レイ\, 初心者向けイベント\, 定期イベント\n【参加条件
 （モデル、人数制限など）】\n　『アガスティア・レコ
 ード』で遊んだことが無い人\n【参加方法】\n　イマー
 シブクラウドのディスコードサーバーに入って該当チ
 ャンネルに参加申し込みを書き込む\n【備考】\n　https:/
 /x.com/immersivecloud/status/2039707772800156042?s=20
LOCATION:
END:VEVENT
END:VCALENDAR
