BEGIN:VCALENDAR
VERSION:2.0
PRODID:-//chikkutakku.com//RDFCal 1.0//EN
X-WR-CALDESC:GoogleカレンダーやiCalendar形式情報を共有シェ
 アしましょう。近所のイベントから全国のイベントま
 で今日のイベント検索やスケジュールを決めるならち
 っくたっく
X-WR-CALNAME:ちっくたっく
X-WR-TIMEZONE:UTC
BEGIN:VEVENT
SUMMARY:憲法を「そもそも」から 学び活かそう
DTSTART;VALUE=DATE:20260502
DTEND;VALUE=DATE:20260503
UID:173510211431
DESCRIPTION:2026-05-03憲法を「そもそも」から 学び活かそう
 五十嵐仁・小沢隆一学習の友社
LOCATION:
END:VEVENT
END:VCALENDAR
