BEGIN:VCALENDAR
VERSION:2.0
PRODID:-//chikkutakku.com//RDFCal 1.0//EN
X-WR-CALDESC:GoogleカレンダーやiCalendar形式情報を共有シェ
 アしましょう。近所のイベントから全国のイベントま
 で今日のイベント検索やスケジュールを決めるならち
 っくたっく
X-WR-CALNAME:ちっくたっく
X-WR-TIMEZONE:UTC
BEGIN:VEVENT
SUMMARY:【生演奏が聞ける】魔法使いバー「BarAzul」
DTSTART;VALUE=DATE-TIME:20260428T130000Z
DTEND;VALUE=DATE-TIME:20260428T141500Z
UID:173654884956
DESCRIPTION:【イベント主催者】\n　mochi_もちちゃん\n【イ
 ベント内容】\n　魔法使いコンセプトバー「BarAzul」(バ
 ーアズール)です。毎月第2・4火曜日の22:00～23:15営業し
 ております。お待ちしております！\n(非ロールプレイ
 、生演奏パフォーマンス)\n【イベントジャンル】\n　VR
 飲み会\, 店舗系イベント\, 初心者向けイベント\, 定期
 イベント\n【参加条件（モデル、人数制限など）】\n　
 日本語でのコミュニケーションが取れる方\n【参加方法
 】\n　グループ+で開店します。以下のグループに参加
 いただき、開店時間にグループインスタンスへJoin！\n
 グループ「BarAzul」BAR. 6794\n【備考】\n　
LOCATION:
END:VEVENT
END:VCALENDAR
