BEGIN:VCALENDAR
VERSION:2.0
PRODID:-//chikkutakku.com//RDFCal 1.0//EN
X-WR-CALDESC:GoogleカレンダーやiCalendar形式情報を共有シェ
 アしましょう。近所のイベントから全国のイベントま
 で今日のイベント検索やスケジュールを決めるならち
 っくたっく
X-WR-CALNAME:ちっくたっく
X-WR-TIMEZONE:UTC
BEGIN:VEVENT
SUMMARY:DeepEuphoria
DTSTART;VALUE=DATE-TIME:20260420T125000Z
DTEND;VALUE=DATE-TIME:20260420T125000Z
UID:173921656556
DESCRIPTION:【イベント主催者】\n　RIFO\n【イベント内容】
 \n　低音女性ボイス×酒言葉モチーフのbarイベント\n『
 お酒をお供に、貴方に心に染みる時間を提供します』\n
  月曜22時～23時(不定) 月一開催予定　参加方法：リクイ
 ン式\nキャスト1、お客様2の雑談系接客イベント\n【イ
 ベントジャンル】\n　店舗系イベント\n【参加条件（モ
 デル、人数制限など）】\n　PCのみの参加となります(デ
 スクトップでも可能です)\n【参加方法】\n　21:50にリク
 エストインバイトを最大2回まで送ってください。抽選
 で当選したかたにインバイトを送ります\n【備考】\n　
LOCATION:
END:VEVENT
END:VCALENDAR
