BEGIN:VCALENDAR
VERSION:2.0
PRODID:-//chikkutakku.com//RDFCal 1.0//EN
X-WR-CALDESC:GoogleカレンダーやiCalendar形式情報を共有シェ
 アしましょう。近所のイベントから全国のイベントま
 で今日のイベント検索やスケジュールを決めるならち
 っくたっく
X-WR-CALNAME:ちっくたっく
X-WR-TIMEZONE:UTC
BEGIN:VEVENT
SUMMARY:わが子に障害があるとわかったときまず読む本 
 「これからどうなる？」がマンガでわかる
DTSTART;VALUE=DATE:20260520
DTEND;VALUE=DATE:20260521
UID:174655458490
DESCRIPTION:2026-05-21わが子に障害があるとわかったときま
 ず読む本 「これからどうなる？」がマンガでわかる藤
 井 渉/ゆむいKADOKAWA
LOCATION:
END:VEVENT
END:VCALENDAR
