BEGIN:VCALENDAR
VERSION:2.0
PRODID:-//chikkutakku.com//RDFCal 1.0//EN
X-WR-CALDESC:GoogleカレンダーやiCalendar形式情報を共有シェ
 アしましょう。近所のイベントから全国のイベントま
 で今日のイベント検索やスケジュールを決めるならち
 っくたっく
X-WR-CALNAME:ちっくたっく
X-WR-TIMEZONE:UTC
BEGIN:VEVENT
SUMMARY:マヌラボ ワールドお披露目特別回
DTSTART;VALUE=DATE-TIME:20260425T120000Z
DTEND;VALUE=DATE-TIME:20260425T130000Z
UID:175173043766
DESCRIPTION:【イベント主催者】\n　Kai_カイ\n【イベント内
 容】\n　「マヌラボ」は、マヌカちゃんのアバター集会
 です！\nマヌカちゃん同士でおしゃべりしたり、写真を
 撮ったり、\nオシャレを共有したりと、皆で楽しめる場
 所を目指しています！\nサンプルアバターでの参加も大
 歓迎です！\nあなたのマヌカちゃん見せてくださいっ！
 \n\nマヌラボの開催日時\n毎月第2土曜日21時から\n\nX（旧
 Twitter）\n＠manu_lab_vrc\n【イベントジャンル】\n　アバタ
 ー試着会\, 改変アバター交流会\, その他交流会\n【参加
 条件（モデル、人数制限など）】\n　1․ 皆がびっくり
 するようなパーティクルや視界ジャック、\n大きな音を
 出すのはやめてください。\n2․ 他の人が嫌がる言葉や
 行動はやめてください。\n3․ 動画を許可なく撮るのは
 やめてください。\n4․ アバターのDLサイズは50MB以下だ
 と嬉しいです。\n後、スタッフが良くないと思った時は
 注意する事があります。\n約束を守れない時は対処させ
 ていただく事がありますので、\nどうかご協力お願いし
 ます！\n【参加方法】\n　グループインスタンスにJoin（
 コード：MANULB.1470）または「Kai_カイ」へフレリク＆Join\
 n【備考】\n　
LOCATION:
END:VEVENT
END:VCALENDAR
