BEGIN:VCALENDAR
VERSION:2.0
PRODID:-//chikkutakku.com//RDFCal 1.0//EN
X-WR-CALDESC:GoogleカレンダーやiCalendar形式情報を共有シェ
 アしましょう。近所のイベントから全国のイベントま
 で今日のイベント検索やスケジュールを決めるならち
 っくたっく
X-WR-CALNAME:ちっくたっく
X-WR-TIMEZONE:UTC
BEGIN:VEVENT
SUMMARY:昼　🔰初心者クラス
DTSTART;VALUE=DATE-TIME:20260423T043000Z
DTEND;VALUE=DATE-TIME:20260423T060000Z
UID:175206056179
DESCRIPTION:①s.k\n②m.k\n③\n④\n⑤\n⑥\n⑦
LOCATION:
END:VEVENT
END:VCALENDAR
