BEGIN:VCALENDAR
VERSION:2.0
PRODID:-//chikkutakku.com//RDFCal 1.0//EN
X-WR-CALDESC:GoogleカレンダーやiCalendar形式情報を共有シェ
 アしましょう。近所のイベントから全国のイベントま
 で今日のイベント検索やスケジュールを決めるならち
 っくたっく
X-WR-CALNAME:ちっくたっく
X-WR-TIMEZONE:UTC
BEGIN:VEVENT
SUMMARY:SM Map Rando Weekly: Season 5 test
DTSTART;VALUE=DATE-TIME:20260422T230000Z
DTEND;VALUE=DATE-TIME:20260423T010000Z
UID:175236238157
DESCRIPTION:Super Metroid Map Rando Weekly\n\nhttp://twitch.tv/SpeedGaming
 \n\n\n[updated 2026-04-22T01:34:40+00:00]
LOCATION:
END:VEVENT
END:VCALENDAR
