BEGIN:VCALENDAR
VERSION:2.0
PRODID:-//chikkutakku.com//RDFCal 1.0//EN
X-WR-CALDESC:GoogleカレンダーやiCalendar形式情報を共有シェ
 アしましょう。近所のイベントから全国のイベントま
 で今日のイベント検索やスケジュールを決めるならち
 っくたっく
X-WR-CALNAME:ちっくたっく
X-WR-TIMEZONE:UTC
BEGIN:VEVENT
SUMMARY:サラリーマン金太郎 五十歳 新装細読版 1 情熱、
 再燃!!
DTSTART;VALUE=DATE:20260521
DTEND;VALUE=DATE:20260522
UID:175475776415
DESCRIPTION:2026-05-22サラリーマン金太郎 五十歳 新装細読
 版 1 情熱、再燃!!本宮 ひろ志集英社
LOCATION:
END:VEVENT
END:VCALENDAR
