BEGIN:VCALENDAR
VERSION:2.0
PRODID:-//chikkutakku.com//RDFCal 1.0//EN
X-WR-CALDESC:GoogleカレンダーやiCalendar形式情報を共有シェ
 アしましょう。近所のイベントから全国のイベントま
 で今日のイベント検索やスケジュールを決めるならち
 っくたっく
X-WR-CALNAME:ちっくたっく
X-WR-TIMEZONE:UTC
BEGIN:VEVENT
SUMMARY:【U15/14/13】ＴＲ（二日市Ｇ）
DTSTART;VALUE=DATE-TIME:20260523T040000Z
DTEND;VALUE=DATE-TIME:20260523T070000Z
UID:175818773899
DESCRIPTION:【U15/14/13】ＴＲ（二日市Ｇ）
LOCATION:二日市グラウンド-B\, 日本、〒920-0107 石川県金沢
 市二日市町波
END:VEVENT
END:VCALENDAR
