BEGIN:VCALENDAR
VERSION:2.0
PRODID:-//chikkutakku.com//RDFCal 1.0//EN
X-WR-CALDESC:GoogleカレンダーやiCalendar形式情報を共有シェ
 アしましょう。近所のイベントから全国のイベントま
 で今日のイベント検索やスケジュールを決めるならち
 っくたっく
X-WR-CALNAME:ちっくたっく
X-WR-TIMEZONE:UTC
BEGIN:VEVENT
SUMMARY:e:ごぶごぶ #570
DTSTART;VALUE=DATE-TIME:20260423T013000Z
DTEND;VALUE=DATE-TIME:20260423T023000Z
UID:176399836683
DESCRIPTION:#ウエンツ瑛士\nhttps://www.gaora.co.jp/variety/1308910\n
 \n#570\nウエンツ瑛士が代役MCフットボールアワー・後藤
 輝基と大阪NO.1!? うどんかまぼこ板巡り 後編\n\n3月14日(
 土) 18:30 ～ 19:30\n4月23日(木) 10:30 ～ 11:30\n出演：フット
 ボールアワー 後藤輝基、ウエンツ瑛士\nMBS放送：2025/4/5
 \n\n前回に続き、代役MCをフットボールアワー・後藤輝
 基が務め、相方としてウエンツ瑛士が登場。かまぼこ
 板を使ったくじ引きで行き先を決める「かまぼこ板企
 画」で、大阪のうどんを巡る。今回は、長年吉本芸人
 から愛される店を訪れるほか、元そば職人のオーナー
 が経営する店で、一見『そばの様なうどん』などを楽
 しむ。
LOCATION:GAORA
END:VEVENT
END:VCALENDAR
