BEGIN:VCALENDAR
VERSION:2.0
PRODID:-//chikkutakku.com//RDFCal 1.0//EN
X-WR-CALDESC:GoogleカレンダーやiCalendar形式情報を共有シェ
 アしましょう。近所のイベントから全国のイベントま
 で今日のイベント検索やスケジュールを決めるならち
 っくたっく
X-WR-CALNAME:ちっくたっく
X-WR-TIMEZONE:UTC
BEGIN:VEVENT
SUMMARY:【Android 対応】平日朝の談話室 Lotus Leaf
DTSTART;VALUE=DATE-TIME:20260421T010000Z
DTEND;VALUE=DATE-TIME:20260421T020000Z
UID:176906585787
DESCRIPTION:【イベント主催者】\n　時流 東\n【イベント内
 容】\n　イベントの少ない平日の午前中、ゆったりと少
 人数でおしゃべりしませんか？不定期の平日午前10˸00
 ～11˸00まで開催しています。初心者様でもお喋り苦手
 でも大歓迎です。\n【イベントジャンル】\n　その他交
 流会\, 初心者向けイベント\n【参加条件（モデル、人数
 制限など）】\n　日本語が話せる方（Japanese Only）、一
 般常識のある方のみ。荒らし・迷惑行為・NSFWや版権ア
 バター・過度にデータ量の大きいアバターはご遠慮く
 ださい。イベント中のキャスト・お客様同士のフレン
 ド申請はOKですが、必ずお相手に一言かけてからにして
 ください。\n【参加方法】\n　グループ「平日朝の談話
 室 Lotus Leaf」(LOTUSL.5484)にご参加いただき、グループイ
 ンスタンスにJoinしてください。\n【備考】\n　
LOCATION:
END:VEVENT
END:VCALENDAR
