BEGIN:VCALENDAR
VERSION:2.0
PRODID:-//chikkutakku.com//RDFCal 1.0//EN
X-WR-CALDESC:GoogleカレンダーやiCalendar形式情報を共有シェ
 アしましょう。近所のイベントから全国のイベントま
 で今日のイベント検索やスケジュールを決めるならち
 っくたっく
X-WR-CALNAME:ちっくたっく
X-WR-TIMEZONE:UTC
BEGIN:VEVENT
SUMMARY:白き龍の店長とドラゴンスレイヤーのスタッフが
 迎える夜のBAR【ドラゴニュート】
DTSTART;VALUE=DATE-TIME:20260425T140000Z
DTEND;VALUE=DATE-TIME:20260425T145900Z
UID:176977238191
DESCRIPTION:【イベント主催者】\n　Parumu\n【イベント内容
 】\n　白きドラゴンが店主を務めるBAR「Dragonewt」。\nそ
 して、その傍らで店を支えるのはドラゴンスレイヤー
 のスタッフ。\n相反する存在が並び立つ、少し不思議で
 妖しい夜のBARです。\n紫の灯りに包まれた店内で、ゆっ
 たり会話を楽しみながら特別なひとときをお過ごしく
 ださい。\n初めての方も、おひとりの方も大歓迎です。
 \n\n【イベントジャンル】\n　VR飲み会\, ロールプレイ\, 
 初心者向けイベント\, 定期イベント\n【参加条件（モデ
 ル、人数制限など）】\n　迷惑にならないアバターであ
 れば\n【参加方法】\n　Parumuにフレンドかグループに参
 加してください　https://vrc.group/DRAGON.1203\n【備考】\n　ht
 tps://x.com/BAR_Dragonewt/status/2046232795127955599
LOCATION:
END:VEVENT
END:VCALENDAR
