BEGIN:VCALENDAR
VERSION:2.0
PRODID:-//chikkutakku.com//RDFCal 1.0//EN
X-WR-CALDESC:GoogleカレンダーやiCalendar形式情報を共有シェ
 アしましょう。近所のイベントから全国のイベントま
 で今日のイベント検索やスケジュールを決めるならち
 っくたっく
X-WR-CALNAME:ちっくたっく
X-WR-TIMEZONE:UTC
BEGIN:VEVENT
SUMMARY:ふれあい歌謡祭
DTSTART;VALUE=DATE-TIME:20260426T010000Z
DTEND;VALUE=DATE-TIME:20260426T010000Z
UID:177446811157
DESCRIPTION:
LOCATION:桃花・桃源・桃李の間 @ 山梨県南アルプス市飯
 野2971
END:VEVENT
END:VCALENDAR
