BEGIN:VCALENDAR
VERSION:2.0
PRODID:-//chikkutakku.com//RDFCal 1.0//EN
X-WR-CALDESC:GoogleカレンダーやiCalendar形式情報を共有シェ
 アしましょう。近所のイベントから全国のイベントま
 で今日のイベント検索やスケジュールを決めるならち
 っくたっく
X-WR-CALNAME:ちっくたっく
X-WR-TIMEZONE:UTC
BEGIN:VEVENT
SUMMARY:A南二中(小2~4)お休み
DTSTART;VALUE=DATE:20260503
DTEND;VALUE=DATE:20260504
UID:178242744254
DESCRIPTION:祭日の為お休み小2～4年生１９：００～２０：
 ２０
LOCATION:東京都荒川区南千住７丁目２５−１
END:VEVENT
END:VCALENDAR
